{"text_format":"1","workbook":"xlsx","n_sheets":11,"sheets":["NOTES","LLO LVEA Plot","LLO LVEA Plot - zoom in","LLO LVEA monuments List ","TS1 Plot","TS1","TS2 Plot","TS2","LVEA interior wall","TS structure","Chambers"],"not_rendered":{"charts":8,"images":0,"macros":1,"external_links":0,"defined_names":9,"comments":0,"pivot_tables":0},"unopened":[{"sheet":"LLO LVEA Plot","index":1,"reason":"not_a_worksheet"},{"sheet":"LLO LVEA Plot - zoom in","index":2,"reason":"not_a_worksheet"},{"sheet":"TS1 Plot","index":4,"reason":"not_a_worksheet"},{"sheet":"TS2 Plot","index":6,"reason":"not_a_worksheet"}],"bounds":{"document_bytes":16777216,"sheet_cells":100000,"rows_first":2000,"rows_last":500,"rows_between":2000,"halvings":0,"cell_chars":16384,"cell_head_chars":4096},"cells_cut":0,"cells_raw":0,"read":"whole","date_system":"1900"}

{"sheet":"NOTES","index":0,"n_rows":12,"n_cols":2,"rows_kept":12,"cut":false,"hidden":false,"merged":[[1,0,1,1],[2,0,2,1]]}
["D1200869, aLIGO LLO Monuments"]
["1 )The intent is that this document (Excel spreadsheet of coordinates AND a drawing) cover all monuments for use in aLIGO Initial Alignment at LLO."]
["2) Note that the Test Stand (TS1 and TS2) monuments have their own local coordinate systems, which are in general rotated (slightly) from the global coordinate frame."]
["THESE TS MONUMENTS SHOULD EACH BE ONLY USED AS A SET AND NOT IN COMBINATION WITH THE OTHER MONUMENTS!"]
[]
["Sources:"]
["D980499-C","ASC Equipment Layout, Lousiana Site"]
["E1100374-v4","Survey Data for LLO"]
["E1100374-v4 also includes 4 unlabeled along the Y-axis, which are not included in this table"]
["SEE ALSO C972856 -- MAY HAVE PSI MONUMENTS -- PAPER ONLY IN DCC"]
["SEE ALSO C970811 -- ADDITIONAL MONUMENTS AT LLO"]
["SEE ALSO C970708 -- BLDG SURVEY MONUMENT POINTS"]

{"sheet":"LLO LVEA monuments List ","index":3,"n_rows":37,"n_cols":6,"rows_kept":37,"cut":false,"hidden":false,"merged":[]}
["designation","X (mm)","Y (mm)","Z (mm)","Source","comment"]
["_87",{"$f":"34399.8+13449-1858","v":45990.8},{"$f":"-2245.5+400.4","v":-1845.1},null,"E1100374-v4"]
["AM 400",{"$f":"-1858-1973.1","v":-3831.1},-2245.5,null,"E1100374-v4"]
["AM 401",{"$f":"-1858-18264.1","v":-20122.099999999999},-2245.5,null,"E1100374-v4"]
["AM 402",-22692,-2245.5,null,"E1100374-v4"]
["AM 403",-1858,{"$f":"-2245.5-1404.5","v":-3650},null,"E1100374-v4"]
["AM 404",-1858,{"$f":"-2245.5-17695.5","v":-19941},null,"E1100374-v4"]
["AM 405",-1858,{"$f":"-2245.5-20257.7","v":-22503.200000000001},null,"E1100374-v4"]
["IAM 92",-1858,{"$f":"14449.5-1845.1+33357.8","v":45962.200000000004},null,"E1100374-v4"]
["IAM-L1",-22382.3,-1854.2,null,"D980499-C"]
["IAM-L2",-1854.2,-1854.2,null,"D980499-C"]
["IAM-L3",-1854.2,-22089.599999999999,null,"D980499-C"]
["IAM-L4",2362.1999999999998,-1854.2,null,"D980499-C"]
["IAM-L5",38154,-1854.2,null,"D980499-C"]
["IAM-L6",220000,-1854.2,null,"D980499-C"]
["IAM-L7",-1854.2,2362.1999999999998,null,"D980499-C"]
["IAM-L8",-1854.2,38154,null,"D980499-C"]
["IAM-L9",-1854.2,220000,null,"D980499-C"]
["L1 IAM 376",-1858,{"$f":"14449.5-1845.1","v":12604.4},null,"E1100374-v4"]
["L1 IAM 377",-1858,{"$f":"-2245.5+400.4","v":-1845.1},null,"E1100374-v4"]
["L1 IAM 378",-1858,-2245.5,null,"E1100374-v4"]
["L1 IAM 379",-1858,{"$f":"-2245.5-23993.9","v":-26239.4},null,"E1100374-v4"]
["L1 IAM 380",0,"unknown",null,"E1100374-v4"]
["L1 IAM 381",{"$f":"13449-1858","v":11591},{"$f":"-2245.5+400.4","v":-1845.1},null,"E1100374-v4"]
["L1 IAM 382",{"$f":"-1858-20425.5","v":-22283.5},-2245.5,null,"E1100374-v4"]
["am 500",-1858,-120.22,null,"E1200797-v2"]
["am 501",-1858,0,null,"E1200797-v2"]
["am 502",-1858,-144.37,null,"E1200797-v2"]
["am 503",-1858,-544.4,null,"E1200797-v2"]
["am 504",-1858,24.23,null,"E1200797-v2"]
["am 505",-1858,0,null,"E1200797-v2"]
["am 506",-1858,-183.17,null,"E1200797-v2"]
[]
["E1100374-v4 also includes 4 unlabeled along the Y-axis, which are not included in this table"]
["SEE ALSO C972856 -- MAY HAVE PSI MONUMENTS -- PAPER ONLY IN DCC"]
["SEE ALSO c970811 -- ADDITIONAL MONUMENTS AT LLO"]
["SEE ALSO C970708 -- BLDG SURVEY MONUMENT POINTS"]

{"sheet":"TS1","index":5,"n_rows":27,"n_cols":9,"rows_kept":27,"cut":false,"hidden":false,"merged":[[1,1,1,2],[1,5,1,6],[1,3,1,4]]}
["TEST STAND #1"]
[null,"Incorrect Global from E1100374-v4\ncorrected TS1 relative coordinates per D. Cook & J. Oberling survey 6/26/2012",null,"Corrected, approx. Global per Joe Hanson's 6/14/2012 measurements",null,"Local"]
["designation","X (mm)","Y (mm)","X (mm)","Y (mm)","X (mm)","Y (mm)","Source","comments"]
["IAM 329 (TS1-1)",{"$f":"6726.5+7293","v":14019.5},{"$f":"7168.4-200","v":6968.4},{"$f":"B4+817.3","v":14836.8},{"$f":"C4+5099.8","v":12068.2},{"$f":"B4-$B$13","v":7293},{"$f":"C4-$C$13","v":-200},"E1100374-v4","Test Stand 1 (TS1)"]
["IAM 332 (TS1-2)",{"$f":"6726.5+200","v":6926.5},{"$f":"7168.4-5131","v":2037.3999999999996},7743.8,7137.2,{"$f":"B5-$B$13","v":200},{"$f":"C5-$C$13","v":-5131},"E1100374-v4","Test Stand 1 (TS1)"]
["IAM 333 (TS1-3)",{"$f":"6726.5-200","v":6526.5},{"$f":"7168.4-5131","v":2037.3999999999996},7343.8,7137.2,-200,-5131,"E1100374-v4","Test Stand 1 (TS1)"]
["IAM 334 (TS1-4)",{"$f":"6726.5+200","v":6926.5},{"$f":"7168.4+7571","v":14739.4},7743.8,19839.2,200,7571,"E1100374-v4","Test Stand 1 (TS1)"]
["IAM 337 (TS1-5)",{"$f":"6726.5+7293","v":14019.5},{"$f":"7168.4+200","v":7368.4},14836.8,12468.2,7293,200,"E1100374-v4","Test Stand 1 (TS1)"]
["IAM 349 (TS1-6)",{"$f":"6726.5-200","v":6526.5},{"$f":"7168.4+7571","v":14739.4},7343.8,19839.2,-200,7571,"E1100374-v4","Test Stand 1 (TS1)"]
["IAM 389 (TS1-7)",{"$f":"6726.5-2867","v":3859.5},{"$f":"7168.4+200","v":7368.4},4676.8,12468.2,-2867,200,"E1100374-v4","Test Stand 1 (TS1)"]
["IAM 391 (TS1-8)",{"$f":"6726.5","v":6726.5},{"$f":"7168.4+7571","v":14739.4},7543.8,19839.2,0,7571,"E1100374-v4","Test Stand 1 (TS1)"]
["IAM 393 (TS1-9)",{"$f":"6726.5+7293","v":14019.5},{"$f":"7168.4","v":7168.4},14836.8,12268.2,7293,0,"E1100374-v4","Test Stand 1 (TS1)"]
["IAM 394 (TS1-10)",{"$f":"-1858+10500-1915.5","v":6726.5},{"$f":"14449.5-1845.1+2134-7570","v":7168.4},{"$f":"B13+817.3","v":7543.8},{"$f":"C13+5099.8","v":12268.2},0,0,"E1100374-v4","Test Stand 1 (TS1)"]
["IAM 397 (TS1-11)",{"$f":"6726.5-2867","v":3859.5},{"$f":"7168.4","v":7168.4},{"$f":"B14+817.3","v":4676.8},{"$f":"C14+5099.8","v":12268.2},-2867,0,"E1100374-v4","Test Stand 1 (TS1)"]
["IAM 398 (TS1-12)",{"$f":"6726.5","v":6726.5},{"$f":"7168.4-5131","v":2037.3999999999996},7543.8,7137.2,0,-5131,"E1100374-v4","Test Stand 1 (TS1)"]
["IAM 400 (TS1-13)",{"$f":"6726.5-2867","v":3859.5},{"$f":"7168.4-200","v":6968.4},4676.8,12068.2,-2867,-200,"E1100374-v4","Test Stand 1 (TS1)"]
["TS1-14",null,null,null,null,-2867,-2471.3000000000002,"E1200556-v6","Test Stand 1 (TS1)"]
["TS1-15",null,null,null,null,0,6540.7,"E1200556-v6","Test Stand 1 (TS1)"]
["TS1-16",null,null,null,null,5594.48,6540.7,"E1200556-v6","Test Stand 1 (TS1)"]
["TS1-17",null,null,null,null,5594.48,5390.3,"E1200556-v6","Test Stand 1 (TS1)"]
["TS1-18",null,null,null,null,0,5390.3,"E1200556-v6","Test Stand 1 (TS1)"]
["TS1-19",null,null,null,null,-183.94,7571,"E1200556-v6","Test Stand 1 (TS1)"]
["TS1-20",null,null,null,null,-183.94,0,"E1200556-v6","Test Stand 1 (TS1)"]
["TS1-21",null,null,null,null,{"$f":"F17","v":-2867},10000,"D. Cook 6/28/2012 email","Test Stand 1 (TS1); Y-coordinate is only approximate!"]
[]
["BS HR",-202.62689209999999,-183.88589479999999,null,null,{"$f":"C26","v":-183.88589479999999},{"$f":"-B26","v":202.62689209999999}]
["BS AR",-160.32,-226.23,null,null,{"$f":"C27","v":-226.23},{"$f":"-B27","v":160.32}]

{"sheet":"TS2","index":7,"n_rows":16,"n_cols":8,"rows_kept":16,"cut":false,"hidden":false,"merged":[[1,1,1,3],[1,4,1,5]]}
["TEST STAND #2"]
[null,"Incorrect Global from E1100374-v4",null,null,"Local"]
["designation","X (mm)","Y (mm)","Z (mm)","X (mm)","Y (mm)","Source","comment"]
["IAM 326 (TS2-1)",{"$f":"9633-2872","v":6761},{"$f":"3703.9-200","v":3503.9},null,{"$f":"B4-$B$16","v":-2872},{"$f":"C4-$C$16","v":-199.99999999999955},"E1100374-v4","Test Stand 2 (TS2)"]
["IAM 327 (TS2-2)",{"$f":"9633+200","v":9833},{"$f":"3703.9+7289","v":10992.9},null,{"$f":"B5-$B$16","v":200},{"$f":"C5-$C$16","v":7289},"E1100374-v4","Test Stand 2 (TS2)"]
["IAM 330 (TS2-3)",{"$f":"9633-2872","v":6761},{"$f":"3703.9+200","v":3903.9},null,-2872,200.00000000000045,"E1100374-v4","Test Stand 2 (TS2)"]
["IAM 338 (TS2-4)",{"$f":"9633+7570","v":17203},{"$f":"3703.9+200","v":3903.9},null,7570,200.00000000000045,"E1100374-v4","Test Stand 2 (TS2)"]
["IAM 342 (TS2-5)",{"$f":"9633-200","v":9433},{"$f":"3703.9-5133","v":-1429.1},null,-200,-5133,"E1100374-v4","Test Stand 2 (TS2)"]
["IAM 346 (TS2-6)",{"$f":"9633+7570","v":17203},{"$f":"3703.9-200","v":3503.9},null,7570,-199.99999999999955,"E1100374-v4","Test Stand 2 (TS2)"]
["IAM 350 (TS2-7)",{"$f":"9633+200","v":9833},{"$f":"3703.9-5133","v":-1429.1},null,200,-5133,"E1100374-v4","Test Stand 2 (TS2)"]
["IAM 385 (TS2-8)",{"$f":"9633-200","v":9433},{"$f":"3703.9+7289","v":10992.9},null,-200,7289,"E1100374-v4","Test Stand 2 (TS2)"]
["IAM 390 (TS2-9)",{"$f":"9633-2872","v":6761},{"$f":"3703.9","v":3703.9},null,-2872,0,"E1100374-v4","Test Stand 2 (TS2)"]
["IAM 392 (TS2-10)",{"$f":"9633+7570","v":17203},{"$f":"3703.9","v":3703.9},null,7570,0,"E1100374-v4","Test Stand 2 (TS2)"]
["IAM 395 (TS2-11)",{"$f":"9633","v":9633},{"$f":"3703.9+7289","v":10992.9},null,0,7289,"E1100374-v4","Test Stand 2 (TS2)"]
["IAM 396 (TS2-12)",{"$f":"9633","v":9633},{"$f":"3703.9-5133","v":-1429.1},null,0,-5133,"E1100374-v4","Test Stand 2 (TS2)"]
["IAM 399 (TS2-13)",{"$f":"-1858+10500+991","v":9633},{"$f":"14449.5-1845.1-1611.5-7289","v":3703.8999999999996},null,0,0,"E1100374-v4","Test Stand 2 (TS2)"]

{"sheet":"LVEA interior wall","index":8,"n_rows":38,"n_cols":7,"rows_kept":38,"cut":false,"hidden":false,"merged":[[6,1,6,2],[6,3,6,4],[5,1,5,4],[6,5,6,6],[5,5,5,6]]}
["LLO LVEA interior wall perimeter"]
["for LVEA interior dimensions and wall thickness see"]
["LA-A-101, Rev 1 D960867-01-O Corner Station, LVEA Floor Plan"]
["LA-A-102, Rev 1 D960868-01-O Corner Station, LVEA Partial Floor Plan, Sheet 1"]
[]
[null,"Relative to the Beam Tube Centerlines",null,null,null,"Relative to TS1 center"]
[null,"I-beam Centerline",null,"Face Of Wall (FOW)",null,"Face Of Wall (FOW)"]
["point","X (ft)","Y (ft)","X (mm)","Y (mm)","X (mm)","Y (mm)"]
["A",-15,-115,{"$f":"(B9*12+15*SIGN(B9))*25.4","v":-4953},{"$f":"(C9*12+15*SIGN(C9))*25.4","v":-35433},{"$f":"D9-'TS1'!$B$13","v":-11679.5},{"$f":"E9-'TS1'!$C$13","v":-42601.4}]
["B",-15,-15,{"$f":"(B10*12+15*SIGN(B10))*25.4","v":-4953},{"$f":"(C10*12+15*SIGN(C10))*25.4","v":-4953},{"$f":"D10-'TS1'!$B$13","v":-11679.5},{"$f":"E10-'TS1'!$C$13","v":-12121.4}]
["C",-135,-15,-41529,-4953,{"$f":"D11-'TS1'!$B$13","v":-48255.5},{"$f":"E11-'TS1'!$C$13","v":-12121.4}]
["D",-135,25,-41529,8001,{"$f":"D12-'TS1'!$B$13","v":-48255.5},{"$f":"E12-'TS1'!$C$13","v":832.60000000000036}]
["E",-15,25,-4953,8001,{"$f":"D13-'TS1'!$B$13","v":-11679.5},{"$f":"E13-'TS1'!$C$13","v":832.60000000000036}]
["F",-15,165,-4953,50673,{"$f":"D14-'TS1'!$B$13","v":-11679.5},{"$f":"E14-'TS1'!$C$13","v":43504.6}]
["G",45,165,14097,50673,{"$f":"D15-'TS1'!$B$13","v":7370.5},{"$f":"E15-'TS1'!$C$13","v":43504.6}]
["H",45,45,14097,14097,{"$f":"D16-'TS1'!$B$13","v":7370.5},{"$f":"E16-'TS1'!$C$13","v":6928.6}]
["I",165,45,50673,14097,{"$f":"D17-'TS1'!$B$13","v":43946.5},{"$f":"E17-'TS1'!$C$13","v":6928.6}]
["J",165,-15,50673,-4953,{"$f":"D18-'TS1'!$B$13","v":43946.5},{"$f":"E18-'TS1'!$C$13","v":-12121.4}]
["K",45,-15,14097,-4953,{"$f":"D19-'TS1'!$B$13","v":7370.5},{"$f":"E19-'TS1'!$C$13","v":-12121.4}]
["L",45,-35,14097,-11049,{"$f":"D20-'TS1'!$B$13","v":7370.5},{"$f":"E20-'TS1'!$C$13","v":-18217.400000000001}]
["M",25,-35,8001,-11049,{"$f":"D21-'TS1'!$B$13","v":1274.5},{"$f":"E21-'TS1'!$C$13","v":-18217.400000000001}]
["N",25,-115,8001,-35433,{"$f":"D22-'TS1'!$B$13","v":1274.5},{"$f":"E22-'TS1'!$C$13","v":-42601.4}]
["A",{"$f":"B9","v":-15},{"$f":"C9","v":-115},{"$f":"D9","v":-4953},{"$f":"E9","v":-35433},{"$f":"D23-'TS1'!$B$13","v":-11679.5},{"$f":"E23-'TS1'!$C$13","v":-42601.4}]
[]
[]
["Beam Tube Centerlines = Global Axes"]
[]
["point","X (mm)","Y (mm)"]
["A",{"$f":"D11","v":-41529},0,"x-axis"]
["B",{"$f":"D17","v":50673},0,"x-axis"]
["A",0,{"$f":"E9","v":-35433},"y-axis"]
["B",0,{"$f":"E14","v":50673},"y-axis"]
[]
[]
["The LVEA Wall in proximity to TS#1 per Joe Hanson's measurements:"]
[{"$f":"(21*12+6)*25.4","v":6553.2},10000]
[{"$f":"A36","v":6553.2},{"$f":"6*12*25.4","v":1828.8}]
[18000,{"$f":"B37","v":1828.8}]

{"sheet":"TS structure","index":9,"n_rows":43,"n_cols":4,"rows_kept":43,"cut":false,"hidden":false,"merged":[]}
["depiction of the planform of the test stand"]
[]
["point","X","Y"]
["A",{"$f":"-2082.8/2","v":-1041.4000000000001},{"$f":"2641.6/2","v":1320.8},"pad1"]
["B",{"$f":"B4+495.3","v":-546.10000000000014},{"$f":"C4","v":1320.8}]
["C",{"$f":"B5","v":-546.10000000000014},{"$f":"C5-495.3","v":825.5}]
["D",{"$f":"B4","v":-1041.4000000000001},{"$f":"C6","v":825.5}]
["A",{"$f":"B4","v":-1041.4000000000001},{"$f":"C4","v":1320.8}]
["A",{"$f":"B4+2082.8-495.3","v":546.10000000000014},{"$f":"C4","v":1320.8},"pad2"]
["B",{"$f":"B5+2082.8-495.3","v":1041.4000000000001},{"$f":"C5","v":1320.8}]
["C",{"$f":"B6+2082.8-495.3","v":1041.4000000000001},{"$f":"C6","v":825.5}]
["D",{"$f":"B7+2082.8-495.3","v":546.10000000000014},{"$f":"C7","v":825.5}]
["A",{"$f":"B8+2082.8-495.3","v":546.10000000000014},{"$f":"C8","v":1320.8}]
["A",{"$f":"B9","v":546.10000000000014},{"$f":"C4-2641.6+495.3","v":-825.5},"pad3"]
["B",{"$f":"B10","v":1041.4000000000001},{"$f":"C5-2641.6+495.3","v":-825.5}]
["C",{"$f":"B11","v":1041.4000000000001},{"$f":"C6-2641.6+495.3","v":-1320.8}]
["D",{"$f":"B12","v":546.10000000000014},{"$f":"C7-2641.6+495.3","v":-1320.8}]
["A",{"$f":"B13","v":546.10000000000014},{"$f":"C8-2641.6+495.3","v":-825.5}]
["A",{"$f":"B4","v":-1041.4000000000001},{"$f":"C14","v":-825.5},"pad 4"]
["B",{"$f":"B5","v":-546.10000000000014},{"$f":"C15","v":-825.5}]
["C",{"$f":"B6","v":-546.10000000000014},{"$f":"C16","v":-1320.8}]
["D",{"$f":"B7","v":-1041.4000000000001},{"$f":"C17","v":-1320.8}]
["A",{"$f":"B8","v":-1041.4000000000001},{"$f":"C18","v":-825.5}]
["A",{"$f":"-1981.2/2","v":-990.6},{"$f":"2438.4/2","v":1219.2},"left support tube"]
["B",{"$f":"B24+304.8","v":-685.8},{"$f":"C24","v":1219.2}]
["C",{"$f":"B25","v":-685.8},{"$f":"-2438.4/2","v":-1219.2}]
["D",{"$f":"B24","v":-990.6},{"$f":"C26","v":-1219.2}]
["A",{"$f":"B24","v":-990.6},{"$f":"C24","v":1219.2}]
["A",{"$f":"B24+1981.2-304.8","v":685.8},{"$f":"C24","v":1219.2},"right support tube"]
["B",{"$f":"B25+1981.2-304.8","v":990.60000000000014},{"$f":"C25","v":1219.2}]
["C",{"$f":"B26+1981.2-304.8","v":990.60000000000014},{"$f":"C26","v":-1219.2}]
["D",{"$f":"B27+1981.2-304.8","v":685.8},{"$f":"C27","v":-1219.2}]
["A",{"$f":"B28+1981.2-304.8","v":685.8},{"$f":"C28","v":1219.2}]
["A",{"$f":"B25","v":-685.8},{"$f":"C25","v":1219.2},"crossbeam 1"]
["B",{"$f":"B29","v":685.8},{"$f":"C29","v":1219.2}]
["C",{"$f":"B35","v":685.8},{"$f":"C35-304.8","v":914.40000000000009}]
["D",{"$f":"B34","v":-685.8},{"$f":"C36","v":914.40000000000009}]
["A",{"$f":"B34","v":-685.8},{"$f":"C34","v":1219.2}]
["A",{"$f":"B34","v":-685.8},{"$f":"C34-2438.4+304.8","v":-914.40000000000009},"crossbeam 2"]
["B",{"$f":"B35","v":685.8},{"$f":"C35-2438.4+304.8","v":-914.40000000000009}]
["C",{"$f":"B36","v":685.8},{"$f":"C36-2438.4+304.8","v":-1219.2}]
["D",{"$f":"B37","v":-685.8},{"$f":"C37-2438.4+304.8","v":-1219.2}]
["A",{"$f":"B38","v":-685.8},{"$f":"C38-2438.4+304.8","v":-914.40000000000009}]

{"sheet":"Chambers","index":10,"n_rows":26,"n_cols":20,"rows_kept":26,"cut":false,"hidden":false,"merged":[]}
["Simple representation of BSC chamber for monument sketch"]
[{"$f":"104.5*25.4/2","v":1327.1499999999999},"R, lower BSC shell ID, mm",null,null,null,null,{"$f":"53.19*25.4","v":1351.0259999999998},"L1, HAM center to bellow flange, mm"]
[{"$f":"60.5*25.4","v":1536.6999999999998},"D, main port ID, mm",null,null,null,null,{"$f":"48*25.4","v":1219.1999999999998},"L2, HAM center to flange, mm"]
[{"$f":"113.75*25.4","v":2889.25},"L, main port flange-to-flange distance, mm",null,null,null,null,{"$f":"75*25.4","v":1905},"L3, HAM main access flange-to-flange, mm"]
[null,null,null,null,null,null,{"$f":"60.5*25.4","v":1536.6999999999998},"D1, HAM main beam port ID, mm"]
[null,null,null,null,null,null,{"$f":"84.25*25.4","v":2139.9499999999998},"D2, HAM main access port ID, mm"]
[]
["LBSC2",null,"LBSC1",null,"LBSC3",null,"LHAM at origin",null,"LHAM3",null,"LHAM2",null,"LHAM1",null,"LHAM4",null,"LHAM5",null,"LHAM6"]
["X (mm)","Y (mm)","X (mm)","Y (mm)","X (mm)","Y (mm)","X (mm)","Y (mm)","X (mm)","Y (mm)","X (mm)","Y (mm)","X (mm)","Y (mm)","X (mm)","Y (mm)","X (mm)","Y (mm)","X (mm)","Y (mm)"]
[{"$f":"-D_BSC/2","v":-768.34999999999991},{"$f":"SQRT(R_BSC^2-D_BSC^2/4)","v":1082.1115469303522},{"$f":"A10","v":-768.34999999999991},{"$f":"B10+4580","v":5662.1115469303522},{"$f":"A10+4580","v":3811.65},{"$f":"B10","v":1082.1115469303522},{"$f":"-D2_HAM/2","v":-1069.9749999999999},{"$f":"D1_HAM/2","v":768.34999999999991},{"$f":"G10-3831","v":-4900.9750000000004},{"$f":"H10","v":768.34999999999991},{"$f":"G10-20122","v":-21191.974999999999},{"$f":"H10","v":768.34999999999991},{"$f":"G10-22692","v":-23761.974999999999},{"$f":"H10","v":768.34999999999991},{"$f":"H10","v":768.34999999999991},{"$f":"G10-3831","v":-4900.9750000000004},{"$f":"H10","v":768.34999999999991},{"$f":"G10-20122","v":-21191.974999999999},{"$f":"H10","v":768.34999999999991},{"$f":"G10-22692","v":-23761.974999999999}]
[{"$f":"A10","v":-768.34999999999991},{"$f":"L_BSC/2","v":1444.625},{"$f":"A11","v":-768.34999999999991},{"$f":"B11+4580","v":6024.625},{"$f":"A11+4580","v":3811.65},{"$f":"B11","v":1444.625},{"$f":"G10","v":-1069.9749999999999},{"$f":"L3_HAM/2","v":952.5},{"$f":"G11-3831","v":-4900.9750000000004},{"$f":"H11","v":952.5},{"$f":"G11-20122","v":-21191.974999999999},{"$f":"H11","v":952.5},{"$f":"G11-22692","v":-23761.974999999999},{"$f":"H11","v":952.5},{"$f":"H11","v":952.5},{"$f":"G11-3831","v":-4900.9750000000004},{"$f":"H11","v":952.5},{"$f":"G11-20122","v":-21191.974999999999},{"$f":"H11","v":952.5},{"$f":"G11-22692","v":-23761.974999999999}]
[{"$f":"-A11","v":768.34999999999991},{"$f":"B11","v":1444.625},768.34999999999991,6024.625,5348.35,1444.625,{"$f":"-G11","v":1069.9749999999999},{"$f":"H11","v":952.5},-2761.0250000000001,952.5,-19052.025000000001,952.5,-21622.025000000001,952.5,952.5,-2761.0250000000001,952.5,-19052.025000000001,952.5,-21622.025000000001]
[{"$f":"A12","v":768.34999999999991},{"$f":"B10","v":1082.1115469303522},768.34999999999991,5662.1115469303522,5348.35,1082.1115469303522,{"$f":"-G10","v":1069.9749999999999},{"$f":"H10","v":768.34999999999991},-2761.0250000000001,768.34999999999991,-19052.025000000001,768.34999999999991,-21622.025000000001,768.34999999999991,768.34999999999991,-2761.0250000000001,768.34999999999991,-19052.025000000001,768.34999999999991,-21622.025000000001]
[{"$f":"B13","v":1082.1115469303522},{"$f":"A13","v":768.34999999999991},1082.1115469303522,5348.35,5662.1115469303522,768.34999999999991,{"$f":"L1_HAM","v":1351.0259999999998},{"$f":"H13","v":768.34999999999991},-2479.9740000000002,768.34999999999991,-18770.974000000002,768.34999999999991,-21340.974000000002,768.34999999999991,768.34999999999991,-2479.9740000000002,768.34999999999991,-18770.974000000002,768.34999999999991,-21340.974000000002]
[{"$f":"L_BSC/2","v":1444.625},{"$f":"B14","v":768.34999999999991},1444.625,5348.35,6024.625,768.34999999999991,{"$f":"G14","v":1351.0259999999998},{"$f":"-H14","v":-768.34999999999991},-2479.9740000000002,-768.34999999999991,-18770.974000000002,-768.34999999999991,-21340.974000000002,-768.34999999999991,-768.34999999999991,-2479.9740000000002,-768.34999999999991,-18770.974000000002,-768.34999999999991,-21340.974000000002]
[{"$f":"A15","v":1444.625},{"$f":"-B15","v":-768.34999999999991},1444.625,3811.65,6024.625,-768.34999999999991,{"$f":"G13","v":1069.9749999999999},{"$f":"H15","v":-768.34999999999991},-2761.0250000000001,-768.34999999999991,-19052.025000000001,-768.34999999999991,-21622.025000000001,-768.34999999999991,-768.34999999999991,-2761.0250000000001,-768.34999999999991,-19052.025000000001,-768.34999999999991,-21622.025000000001]
[{"$f":"A14","v":1082.1115469303522},{"$f":"B16","v":-768.34999999999991},1082.1115469303522,3811.65,5662.1115469303522,-768.34999999999991,{"$f":"G16","v":1069.9749999999999},{"$f":"-H12","v":-952.5},-2761.0250000000001,-952.5,-19052.025000000001,-952.5,-21622.025000000001,-952.5,-952.5,-2761.0250000000001,-952.5,-19052.025000000001,-952.5,-21622.025000000001]
[{"$f":"-B17","v":768.34999999999991},{"$f":"-A17","v":-1082.1115469303522},768.34999999999991,3497.8884530696478,5348.35,-1082.1115469303522,{"$f":"-G17","v":-1069.9749999999999},{"$f":"H17","v":-952.5},-4900.9750000000004,-952.5,-21191.974999999999,-952.5,-23761.974999999999,-952.5,-952.5,-4900.9750000000004,-952.5,-21191.974999999999,-952.5,-23761.974999999999]
[{"$f":"A18","v":768.34999999999991},{"$f":"-L_BSC/2","v":-1444.625},768.34999999999991,3135.375,5348.35,-1444.625,{"$f":"G18","v":-1069.9749999999999},{"$f":"H16","v":-768.34999999999991},-4900.9750000000004,-768.34999999999991,-21191.974999999999,-768.34999999999991,-23761.974999999999,-768.34999999999991,-768.34999999999991,-4900.9750000000004,-768.34999999999991,-21191.974999999999,-768.34999999999991,-23761.974999999999]
[{"$f":"-A19","v":-768.34999999999991},{"$f":"B19","v":-1444.625},-768.34999999999991,3135.375,3811.65,-1444.625,{"$f":"-L2_HAM","v":-1219.1999999999998},{"$f":"H19","v":-768.34999999999991},-5050.2,-768.34999999999991,-21341.200000000001,-768.34999999999991,-23911.200000000001,-768.34999999999991,-768.34999999999991,-5050.2,-768.34999999999991,-21341.200000000001,-768.34999999999991,-23911.200000000001]
[{"$f":"A20","v":-768.34999999999991},{"$f":"B18","v":-1082.1115469303522},-768.34999999999991,3497.8884530696478,3811.65,-1082.1115469303522,{"$f":"G20","v":-1219.1999999999998},{"$f":"-H20","v":768.34999999999991},-5050.2,768.34999999999991,-21341.200000000001,768.34999999999991,-23911.200000000001,768.34999999999991,768.34999999999991,-5050.2,768.34999999999991,-21341.200000000001,768.34999999999991,-23911.200000000001]
[{"$f":"B21","v":-1082.1115469303522},{"$f":"A21","v":-768.34999999999991},-1082.1115469303522,3811.65,3497.8884530696478,-768.34999999999991,{"$f":"G10","v":-1069.9749999999999},{"$f":"H10","v":768.34999999999991},-4900.9750000000004,768.34999999999991,-21191.974999999999,768.34999999999991,-23761.974999999999,768.34999999999991,768.34999999999991,-4900.9750000000004,768.34999999999991,-21191.974999999999,768.34999999999991,-23761.974999999999]
[{"$f":"-L_BSC/2","v":-1444.625},{"$f":"B22","v":-768.34999999999991},-1444.625,3811.65,3135.375,-768.34999999999991]
[{"$f":"A23","v":-1444.625},{"$f":"-B23","v":768.34999999999991},-1444.625,5348.35,3135.375,768.34999999999991]
[{"$f":"A22","v":-1082.1115469303522},{"$f":"B24","v":768.34999999999991},-1082.1115469303522,5348.35,3497.8884530696478,768.34999999999991]
[{"$f":"-B25","v":-768.34999999999991},{"$f":"-A25","v":1082.1115469303522},-768.34999999999991,5662.1115469303522,3811.65,1082.1115469303522]